BEGIN:VCALENDAR
VERSION:2.0
PRODID:-//La Maison RêVée - ECPv6.15.15//NONSGML v1.0//EN
CALSCALE:GREGORIAN
METHOD:PUBLISH
X-WR-CALNAME:La Maison RêVée
X-ORIGINAL-URL:https://maisonrevee.org
X-WR-CALDESC:Évènements pour La Maison RêVée
REFRESH-INTERVAL;VALUE=DURATION:PT1H
X-Robots-Tag:noindex
X-PUBLISHED-TTL:PT1H
BEGIN:VTIMEZONE
TZID:Europe/Paris
BEGIN:DAYLIGHT
TZOFFSETFROM:+0100
TZOFFSETTO:+0200
TZNAME:CEST
DTSTART:20250330T010000
END:DAYLIGHT
BEGIN:STANDARD
TZOFFSETFROM:+0200
TZOFFSETTO:+0100
TZNAME:CET
DTSTART:20251026T010000
END:STANDARD
BEGIN:DAYLIGHT
TZOFFSETFROM:+0100
TZOFFSETTO:+0200
TZNAME:CEST
DTSTART:20260329T010000
END:DAYLIGHT
BEGIN:STANDARD
TZOFFSETFROM:+0200
TZOFFSETTO:+0100
TZNAME:CET
DTSTART:20261025T010000
END:STANDARD
BEGIN:DAYLIGHT
TZOFFSETFROM:+0100
TZOFFSETTO:+0200
TZNAME:CEST
DTSTART:20270328T010000
END:DAYLIGHT
BEGIN:STANDARD
TZOFFSETFROM:+0200
TZOFFSETTO:+0100
TZNAME:CET
DTSTART:20271031T010000
END:STANDARD
END:VTIMEZONE
BEGIN:VEVENT
DTSTART;VALUE=DATE:20260320
DTEND;VALUE=DATE:20260531
DTSTAMP:20260425T014124
CREATED:20260225T161935Z
LAST-MODIFIED:20260227T154023Z
UID:2450-1773964800-1780185599@maisonrevee.org
SUMMARY:Exposition : "Les stratigraphies de la mémoire"
DESCRIPTION:🖼️ Du 20 mars au 30 mai\, venez admirer “Les stratigraphies de la mémoire” à la Maison RêVée ! \nAprès un premier temps d’exposition intitulée “Les déferlantes”\, retrouvez le collectif ROOT’ARTS\, réseau artistique nomade\, accompagné par Carlos Cordero Montiel\, graveur bolivien\, pour ce second volet d’exposition. \n🗣️ Mémoire personnelle\, plurielle ou collective\, strates de matières ou de texture\, en enlèvement ou en rajout\, chaque RootArtiste a investi le thème « les stratigraphies de la mémoire » avec ses propres outils. \n📅 ENTREE LIBRE ET GRATUITE\, selon les horaires d’ouverture de la Maison RêVée. \n👋 Autour de cette exposition\, les RootArtistes vous proposent 4 rencontres : \n\n\n\nSamedi 21 mars (14h30-16h30) : Poézilibre\, lecture poétique et écriture\nMercredi 25 mars (15h-17h) : Les couleurs de nos mémoires\, déambulation contée et édition de petits formats\nSamedi 11 avril (12h-16h) : Rencontre croisée en « auberge espagnole »\, en parallèle du Repair Café\, pour un moment chaleureux et inventif\nMercredi 20 mai (15h-17h) : Nos curieux empilements… Un atelier surprise !\n\n\n\n\n					\n			Fenêtre sur rue		\n	\n\n🔎 Vous pouvez aussi télécharger le programme complet de ROOT’ARTS 2026 \n👥 Le réseau artistique nomade ROOT’ARTS \n« De l’Afrique à l’Asie en passant par l’Amérique du Sud\, nous arpentons le monde…\nAu crépuscule du XXème siècle\, en 1998\, l’artiste visuelle dominik LOBERA et la photographe Amandine SAUVAGEON\, créent ROOT’ARTS. Ce réseau nomade invite les artistes d’Ici et d’Ailleurs\, à partager un moment d’exposition\, de création et d’expression avec le public. Il devient l’axe international de l’association d’artistes visuel·le·s FenÊtre sur rue\, basée à Bordeaux (33). Plus de 70 artistes des 4 coins du monde ont tricoté ces 25 ans de résidences avec ce « credo » partagé : « Artistes\, nous sommes responsables des patrimoines à venir. » \nChacun·e des RootArtistes travaille avec une double dimension artistique et sociale : les artistes invité·e·s se sont tou·te·s confronté·e·s à leur humanité et à leur volonté citoyenne de participer à réduire l’injustice et/ou l’exclusion dans leur pays.
URL:https://maisonrevee.org/evenement/stratigraphies-memoire/
LOCATION:Maison RêVée\, Rue Louis Blériot\, Bègles\, 33130\, France
CATEGORIES:Exposition
ATTACH;FMTTYPE=image/jpeg:https://maisonrevee.org/wp-content/uploads/2026/02/Copie-de-2026-03-Le-cafe-des-jardiniers-site.jpg
ORGANIZER;CN="Fen%C3%AAtre sur rue":MAILTO:rootarts2023@gmail.com
END:VEVENT
BEGIN:VEVENT
DTSTART;TZID=Europe/Paris:20260425T143000
DTEND;TZID=Europe/Paris:20260425T163000
DTSTAMP:20260425T014124
CREATED:20260324T153220Z
LAST-MODIFIED:20260324T153220Z
UID:2575-1777127400-1777134600@maisonrevee.org
SUMMARY:Balade et impressions florales
DESCRIPTION:Le samedi 25 avril\, de 14h30 à 16h30\, laissez-vous emporter par le printemps pour un atelier autour des impressions florales.🌸 \nAu programme : balade le long de la Garonne où l’on flâne pour découvrir un environnement riche en surprises (delta vert\, carrelets\,…) et récupérer des végétaux. Dans un second temps\, retour à La Maison RêVée pour l’autre partie de l’atelier\, toujours en extérieur\, afin de s’initier au martelage. 🔨 \nLe martelage est une technique qui permet d’imprimer les essences de végétaux sur des tissus. Bien sûr\, vous repartez avec vos créations ! 🌿 \nLa Maison RêVée fournit le nécessaire (à vous de ramasser les végétaux lors de notre balade). \n➡️ Sur inscription : 07 60 32 76 66 ou contact@maisonrevee.org – Prix libre \n💡 Pensez à adhérer pour participer à nos ateliers (adhésion à prix libre – chaque contribution\, même modeste\, fait grandir le projet !) \n 
URL:https://maisonrevee.org/evenement/balade-impressions-florales/
LOCATION:Maison RêVée\, Rue Louis Blériot\, Bègles\, 33130\, France
CATEGORIES:Atelier
ATTACH;FMTTYPE=image/png:https://maisonrevee.org/wp-content/uploads/2026/03/2026-03-impressions-florales-SITE.png
END:VEVENT
END:VCALENDAR