BEGIN:VCALENDAR
VERSION:2.0
PRODID:-//La Maison RêVée - ECPv6.15.15//NONSGML v1.0//EN
CALSCALE:GREGORIAN
METHOD:PUBLISH
X-ORIGINAL-URL:https://maisonrevee.org
X-WR-CALDESC:Évènements pour La Maison RêVée
REFRESH-INTERVAL;VALUE=DURATION:PT1H
X-Robots-Tag:noindex
X-PUBLISHED-TTL:PT1H
BEGIN:VTIMEZONE
TZID:Europe/Paris
BEGIN:DAYLIGHT
TZOFFSETFROM:+0100
TZOFFSETTO:+0200
TZNAME:CEST
DTSTART:20250330T010000
END:DAYLIGHT
BEGIN:STANDARD
TZOFFSETFROM:+0200
TZOFFSETTO:+0100
TZNAME:CET
DTSTART:20251026T010000
END:STANDARD
BEGIN:DAYLIGHT
TZOFFSETFROM:+0100
TZOFFSETTO:+0200
TZNAME:CEST
DTSTART:20260329T010000
END:DAYLIGHT
BEGIN:STANDARD
TZOFFSETFROM:+0200
TZOFFSETTO:+0100
TZNAME:CET
DTSTART:20261025T010000
END:STANDARD
BEGIN:DAYLIGHT
TZOFFSETFROM:+0100
TZOFFSETTO:+0200
TZNAME:CEST
DTSTART:20270328T010000
END:DAYLIGHT
BEGIN:STANDARD
TZOFFSETFROM:+0200
TZOFFSETTO:+0100
TZNAME:CET
DTSTART:20271031T010000
END:STANDARD
END:VTIMEZONE
BEGIN:VEVENT
DTSTART;TZID=Europe/Paris:20260214T143000
DTEND;TZID=Europe/Paris:20260214T163000
DTSTAMP:20260426T055538
CREATED:20260130T163745Z
LAST-MODIFIED:20260130T163745Z
UID:2357-1771079400-1771086600@maisonrevee.org
SUMMARY:Initiation à la teinture naturelle
DESCRIPTION:🌿La Maison RêVée vous invite à essayer la teinture naturelle le samedi 14 février de 14h30 à 16h30. \nNous vous proposons ainsi de créer votre nuancier à partir de pelures d’oignons\, de curcuma\, de fanes de carottes… 🥕 \nL’occasion d’apprendre les bases de cette technique et de vous donner les clés pour continuer chez vous ! \nNous fournissons le nécessaire (ustensile\, bain de teinture\, tissus\,…) mais n’hésitez pas à ramener ce que vous souhaitez pour expérimenter davantage (que ce soit des restes alimentaires ou tissus naturels qu’on pourra essayer de teinter ensemble : lin\, coton\, chanvre\, soie…). 🙂 \nOuvert à tous : adultes et enfants accompagnés \nℹ️ Sur inscription au 07 60 32 76 66 ou contact@maisonrevee.org – prix libre\n💡 Pensez à adhérer pour participer à nos ateliers (adhésion à prix libre – on donne si on veut\, ce qu’on veut !)
URL:https://maisonrevee.org/evenement/teinture-naturelle/
LOCATION:Maison RêVée\, Rue Louis Blériot\, Bègles\, 33130\, France
CATEGORIES:Atelier
ATTACH;FMTTYPE=image/jpeg:https://maisonrevee.org/wp-content/uploads/2026/01/2026-02-Teinture-naturelle-site.jpg
END:VEVENT
END:VCALENDAR