BEGIN:VCALENDAR
VERSION:2.0
PRODID:-//La Maison RêVée - ECPv6.15.15//NONSGML v1.0//EN
CALSCALE:GREGORIAN
METHOD:PUBLISH
X-ORIGINAL-URL:https://maisonrevee.org
X-WR-CALDESC:Évènements pour La Maison RêVée
REFRESH-INTERVAL;VALUE=DURATION:PT1H
X-Robots-Tag:noindex
X-PUBLISHED-TTL:PT1H
BEGIN:VTIMEZONE
TZID:Europe/Paris
BEGIN:DAYLIGHT
TZOFFSETFROM:+0100
TZOFFSETTO:+0200
TZNAME:CEST
DTSTART:20250330T010000
END:DAYLIGHT
BEGIN:STANDARD
TZOFFSETFROM:+0200
TZOFFSETTO:+0100
TZNAME:CET
DTSTART:20251026T010000
END:STANDARD
BEGIN:DAYLIGHT
TZOFFSETFROM:+0100
TZOFFSETTO:+0200
TZNAME:CEST
DTSTART:20260329T010000
END:DAYLIGHT
BEGIN:STANDARD
TZOFFSETFROM:+0200
TZOFFSETTO:+0100
TZNAME:CET
DTSTART:20261025T010000
END:STANDARD
BEGIN:DAYLIGHT
TZOFFSETFROM:+0100
TZOFFSETTO:+0200
TZNAME:CEST
DTSTART:20270328T010000
END:DAYLIGHT
BEGIN:STANDARD
TZOFFSETFROM:+0200
TZOFFSETTO:+0100
TZNAME:CET
DTSTART:20271031T010000
END:STANDARD
END:VTIMEZONE
BEGIN:VEVENT
DTSTART;TZID=Europe/Paris:20260121T143000
DTEND;TZID=Europe/Paris:20260121T163000
DTSTAMP:20260426T010229
CREATED:20251218T145750Z
LAST-MODIFIED:20251218T145750Z
UID:2331-1769005800-1769013000@maisonrevee.org
SUMMARY:Troc de boutures et graines
DESCRIPTION:🌿 Rendez-vous à la Maison RêVée le mercredi 21 janvier 2026 (14h30-16h30) pour un troc de boutures et graines ! \nVenez échanger vos plantes en bouture\, graines\, semis et autres merveilles pour (re)verdir votre intérieur\, embellir votre jardin ou préparer un futur potager. 🥕 \nUn temps convivial pour échanger des boutures / graines mais aussi partager des conseils sur les plantes d’intérieur ou le jardin. 💬 \nVous n’avez pas grand-chose à partager ? Ce n’est pas grave\, la Maison RêVée préparera quelques boutures et graines à vous donner ! 😉 \nGratuit – Sans inscription. \n💡 Pensez à adhérer pour participer à nos ateliers (prix libre – on donne si on veut\, ce qu’on veut !)
URL:https://maisonrevee.org/evenement/troc-boutures-et-graines/
LOCATION:Maison RêVée\, Rue Louis Blériot\, Bègles\, 33130\, France
CATEGORIES:Atelier
ATTACH;FMTTYPE=image/png:https://maisonrevee.org/wp-content/uploads/2025/07/2025-09-Echange-boutures-et-graines-site.png
END:VEVENT
END:VCALENDAR