BEGIN:VCALENDAR
VERSION:2.0
PRODID:-//La Maison RêVée - ECPv6.15.15//NONSGML v1.0//EN
CALSCALE:GREGORIAN
METHOD:PUBLISH
X-WR-CALNAME:La Maison RêVée
X-ORIGINAL-URL:https://maisonrevee.org
X-WR-CALDESC:Évènements pour La Maison RêVée
REFRESH-INTERVAL;VALUE=DURATION:PT1H
X-Robots-Tag:noindex
X-PUBLISHED-TTL:PT1H
BEGIN:VTIMEZONE
TZID:Europe/Paris
BEGIN:DAYLIGHT
TZOFFSETFROM:+0100
TZOFFSETTO:+0200
TZNAME:CEST
DTSTART:20250330T010000
END:DAYLIGHT
BEGIN:STANDARD
TZOFFSETFROM:+0200
TZOFFSETTO:+0100
TZNAME:CET
DTSTART:20251026T010000
END:STANDARD
BEGIN:DAYLIGHT
TZOFFSETFROM:+0100
TZOFFSETTO:+0200
TZNAME:CEST
DTSTART:20260329T010000
END:DAYLIGHT
BEGIN:STANDARD
TZOFFSETFROM:+0200
TZOFFSETTO:+0100
TZNAME:CET
DTSTART:20261025T010000
END:STANDARD
BEGIN:DAYLIGHT
TZOFFSETFROM:+0100
TZOFFSETTO:+0200
TZNAME:CEST
DTSTART:20270328T010000
END:DAYLIGHT
BEGIN:STANDARD
TZOFFSETFROM:+0200
TZOFFSETTO:+0100
TZNAME:CET
DTSTART:20271031T010000
END:STANDARD
END:VTIMEZONE
BEGIN:VEVENT
DTSTART;TZID=Europe/Paris:20260321T100000
DTEND;TZID=Europe/Paris:20260321T123000
DTSTAMP:20260426T010834
CREATED:20260130T171324Z
LAST-MODIFIED:20260226T095927Z
UID:2368-1774087200-1774096200@maisonrevee.org
SUMMARY:Fabriquer une jardinière autonome
DESCRIPTION:Le samedi 21 mars 2026\, de 10h à 12h30\, la Maison RêVée accueille l’association Low-Tech Lab Bordeaux pour un atelier où vous apprendrez à fabriquer une jardinière autonome\, avec laquelle vous repartirez bien sûr ! 🌿 \nFormation aux low-techs\, à la construction et au bricolage\, manipulation d’outils manuels de manière efficace et sécurisée et encadrée. 🔨 Dans cette formation\, vous réaliserez un Wicking Bed (jardinière autonome)\, très efficace pour réduire la consommation d’eau ou le stress hydrique de vos plantes\, uniquement grâce à de la récup’ de caisses de vin ! Et vous pouvez repartir avec\, mais surtout on vous forme pour pouvoir répliquer le modèle\, le modifier et le partager ! 💪 \n\n\n\n➡️ Formation comprenant : \n\nune présentation de la low-tech\, du Low-tech Lab Bordeaux et de La Maison Rêvée\nune explication sur le fonctionnement d’un Wicking Bed\nun atelier de construction de Wicking Bed pas à pas\n\nℹ️ 25€ / personne – Sur inscription via ce formulaire
URL:https://maisonrevee.org/evenement/jardiniere-autonome/
LOCATION:Maison RêVée\, Rue Louis Blériot\, Bègles\, 33130\, France
CATEGORIES:Atelier,Formation
ATTACH;FMTTYPE=image/jpeg:https://maisonrevee.org/wp-content/uploads/2026/01/2026-02-jardiniere-site.jpg
END:VEVENT
BEGIN:VEVENT
DTSTART;TZID=Europe/Paris:20260328T103000
DTEND;TZID=Europe/Paris:20260328T123000
DTSTAMP:20260426T010834
CREATED:20260226T102622Z
LAST-MODIFIED:20260304T122306Z
UID:2457-1774693800-1774701000@maisonrevee.org
SUMMARY:Le café des jardiniers
DESCRIPTION:Le samedi 28 mars de 10h30 à 12h30\, La Maison RêVée accueille l’équipe d’Au Ras Du Sol pour un Café des jardiniers. ☕ \nProfitez d’un atelier collaboratif en extérieur sur la gestion des déchets verts. L’occasion de découvrir comment les transformer en ressources précieuses. Vous apprendrez des techniques simples pour un jardinage durable et un potager vivant\, en pleine santé. 🌱 \n🪱 « Au Ras Du Sol » a pour mission de ramener au sol la matière organique. Pour cela\, ils travaillent sur deux thématiques principales :  \n\nComment valoriser simplement sa matière organique ?\nComment rendre possible le retour au sol de la matière organique là où elle est produite ?\n\n“ Tout pour le retour au sol de la matière organique\, au plus près de là où elle est produite !” \n➡️ Sur inscription via ce lien – Gratuit
URL:https://maisonrevee.org/evenement/cafe-jardiniers/
LOCATION:Maison RêVée\, Rue Louis Blériot\, Bègles\, 33130\, France
CATEGORIES:Atelier
ATTACH;FMTTYPE=image/png:https://maisonrevee.org/wp-content/uploads/2026/02/2026-03-Le-cafe-des-jardiniers-site.png
END:VEVENT
BEGIN:VEVENT
DTSTART;TZID=Europe/Paris:20260328T150000
DTEND;TZID=Europe/Paris:20260328T163000
DTSTAMP:20260426T010834
CREATED:20260226T103800Z
LAST-MODIFIED:20260327T095827Z
UID:2460-1774710000-1774715400@maisonrevee.org
SUMMARY:Rempotage plantes et boutures
DESCRIPTION:Le samedi 28 mars de 15h à 16h30\, dans la continuité de cette journée “jardinage” (suite au “café des jardiniers” du matin)\, la Maison RêVée propose un atelier rempotage plantes et boutures. 🌿 \nNous vous proposons de vous occuper des plantes de la Maison RêVée mais aussi de ramener les vôtres ! 🌱 \nVous pouvez aussi apporter vos gants (si vous préférez ne pas mettre vos mains directement dans la terre 🪱) et des pots !  \n➡️ Sur inscription : 07 60 32 76 66 ou contact@maisonrevee.org – Gratuit \n💡 Pensez à adhérer pour participer à nos ateliers (adhésion à prix libre – chaque contribution\, même modeste\, fait grandir le projet !)
URL:https://maisonrevee.org/evenement/rempotage-plantes-et-boutures/
LOCATION:Maison RêVée\, Rue Louis Blériot\, Bègles\, 33130\, France
CATEGORIES:Atelier
ATTACH;FMTTYPE=image/png:https://maisonrevee.org/wp-content/uploads/2026/02/2026-03-Atelier-boutures-et-rempotage-site-1.png
END:VEVENT
END:VCALENDAR